BEGIN:VCALENDAR
VERSION:2.0
PRODID:-//Wintzenheim - ECPv6.15.18//NONSGML v1.0//EN
CALSCALE:GREGORIAN
METHOD:PUBLISH
X-WR-CALNAME:Wintzenheim
X-ORIGINAL-URL:https://www.ville-wintzenheim.fr
X-WR-CALDESC:Évènements pour Wintzenheim
REFRESH-INTERVAL;VALUE=DURATION:PT1H
X-Robots-Tag:noindex
X-PUBLISHED-TTL:PT1H
BEGIN:VTIMEZONE
TZID:Europe/Paris
BEGIN:DAYLIGHT
TZOFFSETFROM:+0100
TZOFFSETTO:+0200
TZNAME:CEST
DTSTART:20180325T010000
END:DAYLIGHT
BEGIN:STANDARD
TZOFFSETFROM:+0200
TZOFFSETTO:+0100
TZNAME:CET
DTSTART:20181028T010000
END:STANDARD
BEGIN:DAYLIGHT
TZOFFSETFROM:+0100
TZOFFSETTO:+0200
TZNAME:CEST
DTSTART:20190331T010000
END:DAYLIGHT
BEGIN:STANDARD
TZOFFSETFROM:+0200
TZOFFSETTO:+0100
TZNAME:CET
DTSTART:20191027T010000
END:STANDARD
BEGIN:DAYLIGHT
TZOFFSETFROM:+0100
TZOFFSETTO:+0200
TZNAME:CEST
DTSTART:20200329T010000
END:DAYLIGHT
BEGIN:STANDARD
TZOFFSETFROM:+0200
TZOFFSETTO:+0100
TZNAME:CET
DTSTART:20201025T010000
END:STANDARD
END:VTIMEZONE
BEGIN:VEVENT
DTSTART;TZID=Europe/Paris:20190403T200000
DTEND;TZID=Europe/Paris:20190403T220000
DTSTAMP:20260421T131739
CREATED:20180702T135607Z
LAST-MODIFIED:20190131T091033Z
UID:154-1554321600-1554328800@www.ville-wintzenheim.fr
SUMMARY:LA COMPAGNIE SORELLA | Spectacle humoristique "La Tournée"
DESCRIPTION:Un spectacle lyrique et plein d’humour !\nDécouvrez les envolées lyriques enrobées d’humour de Rose et Clémentine\, deux sœurs hautes en couleurs ! Après avoir brillé sur la scène nationale avec leur récital sur Mozart\, leur rêve se réalise enfin ! En effet\, c’est la première de leur tournée internationale ! Et tandis que l’aînée a perfectionné ce récital dans le moindre détail\, sa sœur et leur pianiste\, eux\, ne semblent pas mesurer l’enjeu de la situation…
URL:https://www.ville-wintzenheim.fr/evenement/spectacle-la-tounee/
LOCATION:Espace culturel Arthuss\, 2 avenue De Lattre de Tassigny\, WINTZENHEIM\, 68920\, France
CATEGORIES:concert,musique,spectacle
ATTACH;FMTTYPE=image/jpeg:https://www.ville-wintzenheim.fr/wp-content/uploads/2018/07/SAM_8168-e1530544921935.jpg
END:VEVENT
END:VCALENDAR