BEGIN:VCALENDAR
VERSION:2.0
PRODID:-//Wintzenheim - ECPv6.15.18//NONSGML v1.0//EN
CALSCALE:GREGORIAN
METHOD:PUBLISH
X-WR-CALNAME:Wintzenheim
X-ORIGINAL-URL:https://www.ville-wintzenheim.fr
X-WR-CALDESC:Évènements pour Wintzenheim
REFRESH-INTERVAL;VALUE=DURATION:PT1H
X-Robots-Tag:noindex
X-PUBLISHED-TTL:PT1H
BEGIN:VTIMEZONE
TZID:Europe/Paris
BEGIN:DAYLIGHT
TZOFFSETFROM:+0100
TZOFFSETTO:+0200
TZNAME:CEST
DTSTART:20240331T010000
END:DAYLIGHT
BEGIN:STANDARD
TZOFFSETFROM:+0200
TZOFFSETTO:+0100
TZNAME:CET
DTSTART:20241027T010000
END:STANDARD
BEGIN:DAYLIGHT
TZOFFSETFROM:+0100
TZOFFSETTO:+0200
TZNAME:CEST
DTSTART:20250330T010000
END:DAYLIGHT
BEGIN:STANDARD
TZOFFSETFROM:+0200
TZOFFSETTO:+0100
TZNAME:CET
DTSTART:20251026T010000
END:STANDARD
BEGIN:DAYLIGHT
TZOFFSETFROM:+0100
TZOFFSETTO:+0200
TZNAME:CEST
DTSTART:20260329T010000
END:DAYLIGHT
BEGIN:STANDARD
TZOFFSETFROM:+0200
TZOFFSETTO:+0100
TZNAME:CET
DTSTART:20261025T010000
END:STANDARD
END:VTIMEZONE
BEGIN:VEVENT
DTSTART;TZID=Europe/Paris:20250125T150000
DTEND;TZID=Europe/Paris:20250125T220000
DTSTAMP:20260421T194725
CREATED:20250114T132535Z
LAST-MODIFIED:20250114T132535Z
UID:15171-1737817200-1737842400@www.ville-wintzenheim.fr
SUMMARY:Nuits de la Lecture
DESCRIPTION:Prenez date pour les Nuits de la lecture ! \nNous vous attendons nombreux à l’occasion des Nuits de la lecture\, du 22 au 25 janvier prochain\, auxquelles la Ville de Wintzenheim et la bibliothèque du Livrier se sont associées.  \nLes bénévoles ont concocté des animations gratuites pour toutes les tranches d’âge et pour tous les habitants\, inscrits ou non à la bibliothèque. Et dans un souci d’ouverture à la vie locale\, cette manifestation est organisée en partenariat avec les Amis de la bibliothèque de Colmar et l’école de musique de Wintzenheim\, avec le soutien de la Municipalité.  \n  \nÀ Logelbach – bibliothèque Le Livrier – 2 rue de la gare \n\npour les enfants : mercredi 22 janvier de 10h15 à 10h45 et de 11h à 11h30 / lecture de contes par les bénévoles du Livrier\npour tous : jeudi 23 janvier / ouverture exceptionnelle jusqu’à 20h\n\n  \nÀ Wintzenheim centre : Arthuss – 2 avenue De Lattre de Tassigny\n \nSamedi 25 janvier\n \n\npour les enfants de 0 à 5 ans de 15h à 15h30 et de 5 à 10 ans de 15h45 à 16h15 / contes par les conteuses des Amis de la bibliothèque de Colmar\npour les adultes : de 20h à 22h / lecture de textes sur le patrimoine par les bénévoles du Livrier avec le concours de l’école de musique\n\n  \nDes nuits de la lecture sur le thème des patrimoines\nCette 9e édition est organisée par le ministère de la Culture et le Centre national du livre sur le thème\, cette année\, des patrimoines. L’objectif est d’encourager la création et la diffusion d’ouvrages de qualité et de favoriser le développement de la lecture auprès de tous les publics. Un objectif qui rejoint celui de la Municipalité et des bénévoles qui assurent l’ouverture de la bibliothèque de Wintzenheim\, pour le plus grand plaisir des habitants. \n \nPlus de renseignements : relaislecture@mairie-wintzenheim.fr / Wintzenheim : 03 89 27 94 81 / Logelbach : 03 89 30 22 16 \n 
URL:https://www.ville-wintzenheim.fr/evenement/nuits-de-la-lecture/
CATEGORIES:spectacle
ATTACH;FMTTYPE=image/jpeg:https://www.ville-wintzenheim.fr/wp-content/uploads/2025/01/Capture-decran-2025-01-14-142316.jpg
END:VEVENT
END:VCALENDAR