BEGIN:VCALENDAR
VERSION:2.0
PRODID:-//Wintzenheim - ECPv6.15.18//NONSGML v1.0//EN
CALSCALE:GREGORIAN
METHOD:PUBLISH
X-ORIGINAL-URL:https://www.ville-wintzenheim.fr
X-WR-CALDESC:Évènements pour Wintzenheim
REFRESH-INTERVAL;VALUE=DURATION:PT1H
X-Robots-Tag:noindex
X-PUBLISHED-TTL:PT1H
BEGIN:VTIMEZONE
TZID:Europe/Paris
BEGIN:DAYLIGHT
TZOFFSETFROM:+0100
TZOFFSETTO:+0200
TZNAME:CEST
DTSTART:20230326T010000
END:DAYLIGHT
BEGIN:STANDARD
TZOFFSETFROM:+0200
TZOFFSETTO:+0100
TZNAME:CET
DTSTART:20231029T010000
END:STANDARD
BEGIN:DAYLIGHT
TZOFFSETFROM:+0100
TZOFFSETTO:+0200
TZNAME:CEST
DTSTART:20240331T010000
END:DAYLIGHT
BEGIN:STANDARD
TZOFFSETFROM:+0200
TZOFFSETTO:+0100
TZNAME:CET
DTSTART:20241027T010000
END:STANDARD
BEGIN:DAYLIGHT
TZOFFSETFROM:+0100
TZOFFSETTO:+0200
TZNAME:CEST
DTSTART:20250330T010000
END:DAYLIGHT
BEGIN:STANDARD
TZOFFSETFROM:+0200
TZOFFSETTO:+0100
TZNAME:CET
DTSTART:20251026T010000
END:STANDARD
END:VTIMEZONE
BEGIN:VEVENT
DTSTART;TZID=Europe/Paris:20241115T200000
DTEND;TZID=Europe/Paris:20241117T200000
DTSTAMP:20260421T231752
CREATED:20240918T095447Z
LAST-MODIFIED:20240918T095447Z
UID:14637-1731700800-1731873600@www.ville-wintzenheim.fr
SUMMARY:Spectacle : Compagnie Les Vrillés
DESCRIPTION:Jeune compagnie de théâtre amateur basée à Wintzenheim\, la compagnie Les Vrillés est impatiente de monter sur les planches pour son nouveau spectacle : La Souricière d’Agatha Christie. \n  \n\nLe vendredi 15 et le samedi 16 novembre à 20h et le dimanche 17 novembre à 15h\nÀ la salle Laurentia de Wintzenheim\n\n  \nSynopsis : \nIntrigue\, enquête\, suspects\, crimes … tous les ingrédients sont réunis ! \nLa pièce de théâtre « la Souricière » au succès international et pleine de suspense vous réserve des surprises et des personnages on ne peut plus singuliers. Une maison d’hôtes\, des pensionnaires mystérieux et une affaire à élucider\, le tout sous une épaisse couche de neige. Vous avez toujours rêvé de devenir inspecteur de police ? C’est votre chance\, venez mener l’enquête avec la Compagnie des Vrillés. On vous promet de l’Agatha Christie…à la sauce Vrillés ! \n  \nInfos pratiques : \nEntrée libre – plateau\nRéservation par mail conseillée : compagnielesvrilles@gmail.com ou au téléphone : 06.76.42.46.56
URL:https://www.ville-wintzenheim.fr/evenement/spectacle-compagnie-les-vrilles/
LOCATION:Salle Laurentia
CATEGORIES:spectacle
ATTACH;FMTTYPE=image/jpeg:https://www.ville-wintzenheim.fr/wp-content/uploads/2024/09/014738_Les_Vrilles_La_Souriciere-1.jpg
END:VEVENT
END:VCALENDAR