BEGIN:VCALENDAR
VERSION:2.0
PRODID:-//Wintzenheim - ECPv6.15.18//NONSGML v1.0//EN
CALSCALE:GREGORIAN
METHOD:PUBLISH
X-ORIGINAL-URL:https://www.ville-wintzenheim.fr
X-WR-CALDESC:Évènements pour Wintzenheim
REFRESH-INTERVAL;VALUE=DURATION:PT1H
X-Robots-Tag:noindex
X-PUBLISHED-TTL:PT1H
BEGIN:VTIMEZONE
TZID:Europe/Paris
BEGIN:DAYLIGHT
TZOFFSETFROM:+0100
TZOFFSETTO:+0200
TZNAME:CEST
DTSTART:20230326T010000
END:DAYLIGHT
BEGIN:STANDARD
TZOFFSETFROM:+0200
TZOFFSETTO:+0100
TZNAME:CET
DTSTART:20231029T010000
END:STANDARD
BEGIN:DAYLIGHT
TZOFFSETFROM:+0100
TZOFFSETTO:+0200
TZNAME:CEST
DTSTART:20240331T010000
END:DAYLIGHT
BEGIN:STANDARD
TZOFFSETFROM:+0200
TZOFFSETTO:+0100
TZNAME:CET
DTSTART:20241027T010000
END:STANDARD
BEGIN:DAYLIGHT
TZOFFSETFROM:+0100
TZOFFSETTO:+0200
TZNAME:CEST
DTSTART:20250330T010000
END:DAYLIGHT
BEGIN:STANDARD
TZOFFSETFROM:+0200
TZOFFSETTO:+0100
TZNAME:CET
DTSTART:20251026T010000
END:STANDARD
END:VTIMEZONE
BEGIN:VEVENT
DTSTART;TZID=Europe/Paris:20241005T200000
DTEND;TZID=Europe/Paris:20241013T170000
DTSTAMP:20260422T005912
CREATED:20240904T102256Z
LAST-MODIFIED:20240904T102256Z
UID:14464-1728158400-1728838800@www.ville-wintzenheim.fr
SUMMARY:Les Copains d'Abord : spectacle
DESCRIPTION:L’association Les Copains d’Abord de Wintzenheim organise une représentation à la Salle Laurentia : \n  \n\n\n\nLes samedis 5 et 12 octobre à 20h\nLes dimanches 6 et 13 octobre à 15h\n\n  \nUne comédie en deux actes de Victorien Kissling : « La journée s’annonçait tranquille pour les employés de la banque Steinberg et leurs clients. Sauf que deux braquages viennent coup sur coup semer la panique. Et que la policière responsable de négocier avec les preneurs d’otages n’est qu’une simple agente de la circulation… » \nINFORMATIONS \n  \n\nEntrée – 12€\nPetite restauration sur place\nRéservation sur Hello Asso (QR code ci-dessous) ou par téléphone au 06.08.83.73.15\nBilletterie sur place également
URL:https://www.ville-wintzenheim.fr/evenement/les-copains-dabord-spectacle/
LOCATION:Salle Laurentia
CATEGORIES:spectacle
ATTACH;FMTTYPE=image/jpeg:https://www.ville-wintzenheim.fr/wp-content/uploads/2024/09/20240823_095145.jpg
ORGANIZER;CN="Les Copains d'abord":MAILTO:marieodilevogel@gmail.com
END:VEVENT
BEGIN:VEVENT
DTSTART;TZID=Europe/Paris:20241023T150000
DTEND;TZID=Europe/Paris:20241023T160000
DTSTAMP:20260422T005912
CREATED:20240912T075015Z
LAST-MODIFIED:20241007T073501Z
UID:14556-1729695600-1729699200@www.ville-wintzenheim.fr
SUMMARY:Spectacle jeune public : Ça cartonne !
DESCRIPTION:La Compagnie Matic se produira à l’Arthuss de Wintzenheim.\n\nMercredi 23 octobre 2024 à 15h à l’Arthuss \nRéservations nécessaires à la billetterie de l’Arthuss à arthuss@mairie-wintzenheim.fr ou au 03.89.79.60.17 ou via la billetterie en ligne : https://wintzenheim.notre-billetterie.fr/billets?kld=2425 \n  \nÇa cartonne !\nVenez découvrir Lucien… et le suivre sur la route de la magie et de la poésie\, son univers bien à lui !\nLucien a voyagé dans le monde entier\, jusqu’au jour où il atterrit et décide de construire sa propre maison. Mais attention\, pas n’importe laquelle : une maison en carton !\nBricoleur du dimanche\, aussi adroit que son pied gauche. La tâche risque d’être plus complexe que prévue\, surtout si les cartons n’en font qu’à leur tête ! \n  \nPlus d’infos sur les artistes : https://www.facebook.com/p/Compagnie-Matic-100083400876213/
URL:https://www.ville-wintzenheim.fr/evenement/spectacle-jeune-public-ca-cartonne/
LOCATION:Espace culturel Arthuss\, 2 avenue De Lattre de Tassigny\, WINTZENHEIM\, 68920\, France
CATEGORIES:spectacle
ATTACH;FMTTYPE=image/jpeg:https://www.ville-wintzenheim.fr/wp-content/uploads/2024/09/ca-cartonne.jpg
END:VEVENT
END:VCALENDAR