BEGIN:VCALENDAR
VERSION:2.0
PRODID:-//Wintzenheim - ECPv6.15.18//NONSGML v1.0//EN
CALSCALE:GREGORIAN
METHOD:PUBLISH
X-ORIGINAL-URL:https://www.ville-wintzenheim.fr
X-WR-CALDESC:Évènements pour Wintzenheim
REFRESH-INTERVAL;VALUE=DURATION:PT1H
X-Robots-Tag:noindex
X-PUBLISHED-TTL:PT1H
BEGIN:VTIMEZONE
TZID:Europe/Paris
BEGIN:DAYLIGHT
TZOFFSETFROM:+0100
TZOFFSETTO:+0200
TZNAME:CEST
DTSTART:20230326T010000
END:DAYLIGHT
BEGIN:STANDARD
TZOFFSETFROM:+0200
TZOFFSETTO:+0100
TZNAME:CET
DTSTART:20231029T010000
END:STANDARD
BEGIN:DAYLIGHT
TZOFFSETFROM:+0100
TZOFFSETTO:+0200
TZNAME:CEST
DTSTART:20240331T010000
END:DAYLIGHT
BEGIN:STANDARD
TZOFFSETFROM:+0200
TZOFFSETTO:+0100
TZNAME:CET
DTSTART:20241027T010000
END:STANDARD
BEGIN:DAYLIGHT
TZOFFSETFROM:+0100
TZOFFSETTO:+0200
TZNAME:CEST
DTSTART:20250330T010000
END:DAYLIGHT
BEGIN:STANDARD
TZOFFSETFROM:+0200
TZOFFSETTO:+0100
TZNAME:CET
DTSTART:20251026T010000
END:STANDARD
END:VTIMEZONE
BEGIN:VEVENT
DTSTART;TZID=Europe/Paris:20240910T080000
DTEND;TZID=Europe/Paris:20240910T170000
DTSTAMP:20260422T024255
CREATED:20240910T142038Z
LAST-MODIFIED:20240910T142217Z
UID:14527-1725955200-1725987600@www.ville-wintzenheim.fr
SUMMARY:Spectacle "L'Affaire Grand Méchant Loup"
DESCRIPTION:25ème Festival de la Vallée des Contes\n\n\n\n\nRendez-vous le dimanche 6 octobre à 19h à l’Arthuss\n\n\n\nVenez écouter le récit « L’Affaire Grand Méchant Loup » par Monsieur Mouch\n\n\n\n\nBilletterie sur place : voir tarifs et conditions ci-dessous
URL:https://www.ville-wintzenheim.fr/evenement/spectacle-laffaire-grand-mechant-loup/
CATEGORIES:spectacle
ATTACH;FMTTYPE=image/jpeg:https://www.ville-wintzenheim.fr/wp-content/uploads/2024/09/454499433_879223830907420_6292500564639448596_n.jpg
END:VEVENT
END:VCALENDAR