BEGIN:VCALENDAR
VERSION:2.0
PRODID:-//Wintzenheim - ECPv6.15.18//NONSGML v1.0//EN
CALSCALE:GREGORIAN
METHOD:PUBLISH
X-WR-CALNAME:Wintzenheim
X-ORIGINAL-URL:https://www.ville-wintzenheim.fr
X-WR-CALDESC:Évènements pour Wintzenheim
REFRESH-INTERVAL;VALUE=DURATION:PT1H
X-Robots-Tag:noindex
X-PUBLISHED-TTL:PT1H
BEGIN:VTIMEZONE
TZID:Europe/Paris
BEGIN:DAYLIGHT
TZOFFSETFROM:+0100
TZOFFSETTO:+0200
TZNAME:CEST
DTSTART:20210328T010000
END:DAYLIGHT
BEGIN:STANDARD
TZOFFSETFROM:+0200
TZOFFSETTO:+0100
TZNAME:CET
DTSTART:20211031T010000
END:STANDARD
BEGIN:DAYLIGHT
TZOFFSETFROM:+0100
TZOFFSETTO:+0200
TZNAME:CEST
DTSTART:20220327T010000
END:DAYLIGHT
BEGIN:STANDARD
TZOFFSETFROM:+0200
TZOFFSETTO:+0100
TZNAME:CET
DTSTART:20221030T010000
END:STANDARD
BEGIN:DAYLIGHT
TZOFFSETFROM:+0100
TZOFFSETTO:+0200
TZNAME:CEST
DTSTART:20230326T010000
END:DAYLIGHT
BEGIN:STANDARD
TZOFFSETFROM:+0200
TZOFFSETTO:+0100
TZNAME:CET
DTSTART:20231029T010000
END:STANDARD
END:VTIMEZONE
BEGIN:VEVENT
DTSTART;TZID=Europe/Paris:20220209T150000
DTEND;TZID=Europe/Paris:20220209T160000
DTSTAMP:20260424T034740
CREATED:20190903T132327Z
LAST-MODIFIED:20220128T094447Z
UID:5087-1644418800-1644422400@www.ville-wintzenheim.fr
SUMMARY:Spectacle jeune public : conte "La fille des airs"
DESCRIPTION:Dès 3 ans. Durée : 45 min. \nImaginez un pays musical où les sons\, l’eau\, le bois\, le papier… \nvivaient en parfaite harmonie avec les rythmes. Un jour\, un jeune rythme tomba amoureux de la plus belle des sons\, ils décidèrent se marier mais le père de la jeune fille refusa. A partir de là\, les rythmes et les sons se fâchèrent et les sons partirent pour toujours\, emportant avec eux\, la magie musicale. Aujourd’hui Grand Tambour\, le maître de la forêt\, ne se souvient plus des sons\, il ne sait même plus faire de la musique ! De sa voix douce et mélodieuse\, la fille des airs va bouleverser son existence. Grand Tambour va vouloir apprendre à chanter et à faire de la musique mais… il devra d’abord se réconcilier avec les sons ! C’est l’histoire d’une petite fille qui réussira à faire comprendre\, comment\, en s’unissant\, les rythmes et les sons peuvent créer de la musique… et la tâche ne sera pas si facile car Grand Tambour a bien mauvais caractère. \nÀ partir de matières premières tels que l’eau\, le papier ou le métal\, nous avons voulu montrer les multiples possibilités des sons qui se transforment en rythmes et mélodies à travers l’originalité d’un conte musical adapté. \nTarif  :  \n\n Gratuit pour les enfants de -16 ans.\n3€ par adulte accompagnateur.\n\n  \n\nRéservations nécessaires :\n\nA la billetterie Arthuss : 2 avenue de Lattre de Tassigny\, 68920 WINTZENHEIM  au 03 89 79 60 17 ou au 07 87 79 87 63 et par mail : arthuss@mairie-wintzenheim.fr\nEn mairie : le lundi de 8h à 12h.\n\nLe règlement par chèque (à l’ordre du trésor Public) ou espèces des places réservées doit être effectué au plus tard 72 heures après la réservation. Ce délai écoulé\, la réservation est systématiquement annulée. \nHoraires d’ouverture de la billetterie  : \nLundi\, mardi et jeudi de 17h30 à 19h30\, Mercredi de 9h30 à 11h30 et de 17h30 à 19h30 et le vendredi de 19h à 21h.
URL:https://www.ville-wintzenheim.fr/evenement/spectacle-jeune-public-conte-le-voyage-magique/
LOCATION:Espace culturel Arthuss\, 2 avenue De Lattre de Tassigny\, WINTZENHEIM\, 68920\, France
CATEGORIES:spectacle
ATTACH;FMTTYPE=image/jpeg:https://www.ville-wintzenheim.fr/wp-content/uploads/2019/09/1-2.jpg
END:VEVENT
END:VCALENDAR