BEGIN:VCALENDAR
VERSION:2.0
PRODID:-//Wintzenheim - ECPv6.15.18//NONSGML v1.0//EN
CALSCALE:GREGORIAN
METHOD:PUBLISH
X-ORIGINAL-URL:https://www.ville-wintzenheim.fr
X-WR-CALDESC:Évènements pour Wintzenheim
REFRESH-INTERVAL;VALUE=DURATION:PT1H
X-Robots-Tag:noindex
X-PUBLISHED-TTL:PT1H
BEGIN:VTIMEZONE
TZID:Europe/Paris
BEGIN:DAYLIGHT
TZOFFSETFROM:+0100
TZOFFSETTO:+0200
TZNAME:CEST
DTSTART:20180325T010000
END:DAYLIGHT
BEGIN:STANDARD
TZOFFSETFROM:+0200
TZOFFSETTO:+0100
TZNAME:CET
DTSTART:20181028T010000
END:STANDARD
BEGIN:DAYLIGHT
TZOFFSETFROM:+0100
TZOFFSETTO:+0200
TZNAME:CEST
DTSTART:20190331T010000
END:DAYLIGHT
BEGIN:STANDARD
TZOFFSETFROM:+0200
TZOFFSETTO:+0100
TZNAME:CET
DTSTART:20191027T010000
END:STANDARD
BEGIN:DAYLIGHT
TZOFFSETFROM:+0100
TZOFFSETTO:+0200
TZNAME:CEST
DTSTART:20200329T010000
END:DAYLIGHT
BEGIN:STANDARD
TZOFFSETFROM:+0200
TZOFFSETTO:+0100
TZNAME:CET
DTSTART:20201025T010000
END:STANDARD
END:VTIMEZONE
BEGIN:VEVENT
DTSTART;TZID=Europe/Paris:20191211T200000
DTEND;TZID=Europe/Paris:20191211T200000
DTSTAMP:20260425T210017
CREATED:20190617T070511Z
LAST-MODIFIED:20191129T092143Z
UID:4366-1576094400-1576094400@www.ville-wintzenheim.fr
SUMMARY:Spectacle - « Haut les filles à l’heure de Noël » [COMPLET]
DESCRIPTION:« 5ème AVENUE » est une troupe constituée de 8 artistes à la fois chanteurs\, danseurs et comédiens issus des univers de la comédie musicale\, du théâtre et du cabaret ». \nElle présente un spectacle musical jubilatoire au charme sophistiqué qui se présente sous forme de tableaux chantés en live\, dansés et joués\, où le glamour est omniprésent par la manière dont les artistes revisitent avec originalité et de belles surprises les œuvres de variété du répertoire national et international\, des années 60 à nos jours. \nSeront mises à l’honneur les périodes dorées : du music-hall parisien\, des années yéyé\, du disco\, des grandes comédies musicales. \nVENEZ PARTAGER AVEC NOUS CE MOMENT D’EMOTION ET DE BONHEUR ! \nVerre de l’amitié à l’issue du spectacle offert par la ville en présence des artistes. \nGratuit sur réservation \nTroupe 5e avenue \n\nContact\nService Vie Associative et Manifestations Communales \nTél. : 03 89 27 94 89 \nMail. : cbuhler@mairie-wintzenheim.fr
URL:https://www.ville-wintzenheim.fr/evenement/spectacle-haut-les-filles-a-lheure-de-noel/
LOCATION:Espace culturel Arthuss\, 2 avenue De Lattre de Tassigny\, WINTZENHEIM\, 68920\, France
CATEGORIES:Clair de Noël,concert,spectacle
ATTACH;FMTTYPE=image/jpeg:https://www.ville-wintzenheim.fr/wp-content/uploads/2019/06/clip_5e_Avenue©Alicia_Photographe_2019-137-sur-219.jpg
END:VEVENT
BEGIN:VEVENT
DTSTART;TZID=Europe/Paris:20191223T150000
DTEND;TZID=Europe/Paris:20191223T150000
DTSTAMP:20260425T210017
CREATED:20190903T131844Z
LAST-MODIFIED:20191209T071804Z
UID:5082-1577113200-1577113200@www.ville-wintzenheim.fr
SUMMARY:Spectacle jeune public : concert électro Néo Noël  [COMPLET]
DESCRIPTION:Dès 3 ans. Durée : 45 min. \n\n\n« L’Esprit de Noël existe-t-il toujours ? » Voici l’étrange question posée par le Père Noël à Capnord et Follanote\, deux aventuriers au Pôle Nord. Inquiet\, il leur confie la mission de s’assurer que la joie de Noël remplisse toujours les cœurs des bambins. Avec l’accord du Père Noël\, Capnord et Follanote ont donc décidé de dépoussiérer les chansons de Noël avec une version moderne et festive des plus grands hymnes d’hivernaux. Alors\, petits et grands\, rejoignez les deux aventuriers sur la piste de danse et venez danser et chanter à ce concert électro de Noël ! \n  \n\nTarif  :  \n\n Gratuit pour les enfants de -16 ans.\n3€ par adulte accompagnateur.\n\n  \n\nRéservations nécessaires :\n\nA la billetterie Arthuss : 2 avenue de Lattre de Tassigny\, 68920 WINTZENHEIM  au 03 89 79 60 17 ou au 07 87 79 87 63 et par mail : arthuss@mairie-wintzenheim.fr\nEn mairie : le lundi de 8h à 12h.\n\nLe règlement par chèque (à l’ordre du trésor Public) ou espèces des places réservées doit être effectué au plus tard 72 heures après la réservation. Ce délai écoulé\, la réservation est systématiquement annulée. \nHoraires d’ouverture de la billetterie  : \nLundi\, mardi et jeudi de 17h30 à 19h30\, Mercredi de 9h30 à 11h30 et de 17h30 à 19h30 et le vendredi de 19h à 21h.
URL:https://www.ville-wintzenheim.fr/evenement/spectacle-jeune-public-concert-electro-neo-noel/
LOCATION:Espace culturel Arthuss\, 2 avenue De Lattre de Tassigny\, WINTZENHEIM\, 68920\, France
CATEGORIES:spectacle
ATTACH;FMTTYPE=image/png:https://www.ville-wintzenheim.fr/wp-content/uploads/2019/09/2-2.png
END:VEVENT
END:VCALENDAR