BEGIN:VCALENDAR
VERSION:2.0
PRODID:-//Wintzenheim - ECPv6.15.18//NONSGML v1.0//EN
CALSCALE:GREGORIAN
METHOD:PUBLISH
X-WR-CALNAME:Wintzenheim
X-ORIGINAL-URL:https://www.ville-wintzenheim.fr
X-WR-CALDESC:Évènements pour Wintzenheim
REFRESH-INTERVAL;VALUE=DURATION:PT1H
X-Robots-Tag:noindex
X-PUBLISHED-TTL:PT1H
BEGIN:VTIMEZONE
TZID:Europe/Paris
BEGIN:DAYLIGHT
TZOFFSETFROM:+0100
TZOFFSETTO:+0200
TZNAME:CEST
DTSTART:20180325T010000
END:DAYLIGHT
BEGIN:STANDARD
TZOFFSETFROM:+0200
TZOFFSETTO:+0100
TZNAME:CET
DTSTART:20181028T010000
END:STANDARD
BEGIN:DAYLIGHT
TZOFFSETFROM:+0100
TZOFFSETTO:+0200
TZNAME:CEST
DTSTART:20190331T010000
END:DAYLIGHT
BEGIN:STANDARD
TZOFFSETFROM:+0200
TZOFFSETTO:+0100
TZNAME:CET
DTSTART:20191027T010000
END:STANDARD
BEGIN:DAYLIGHT
TZOFFSETFROM:+0100
TZOFFSETTO:+0200
TZNAME:CEST
DTSTART:20200329T010000
END:DAYLIGHT
BEGIN:STANDARD
TZOFFSETFROM:+0200
TZOFFSETTO:+0100
TZNAME:CET
DTSTART:20201025T010000
END:STANDARD
END:VTIMEZONE
BEGIN:VEVENT
DTSTART;TZID=Europe/Paris:20191023T150000
DTEND;TZID=Europe/Paris:20191023T150000
DTSTAMP:20260426T002027
CREATED:20190903T131644Z
LAST-MODIFIED:20190903T131644Z
UID:5080-1571842800-1571842800@www.ville-wintzenheim.fr
SUMMARY:Spectacle jeune public : Conte "Malice ou Maléfices ?"
DESCRIPTION:Dès 3 ans. Durée : 40 min.\nSorcières maléfiques ou sorcières malicieuses ? A Halloween\, tout est possible. Les légumes du potager le découvriront.\nDans une légende d’Alsace\, Hans\, un jeune meunier le réalisera à ses dépens. Quel tour réservera au loup\, la fée de l’histoire du petit poussin ? Et est-ce par espièglerie ou par sortilège que les chèvres de Jeannot ne veulent pas sortir du champ d’un voisin ? Cricri vous dévoilera le secret…\n\n\nTarif  :  \n\n Gratuit pour les enfants de -16 ans.\n3€ par adulte accompagnateur.\n\n  \n\nRéservations nécessaires :\n\nA la billetterie Arthuss : 2 avenue de Lattre de Tassigny\, 68920 WINTZENHEIM  au 03 89 79 60 17 ou au 07 87 79 87 63 et par mail : arthuss@mairie-wintzenheim.fr\nEn mairie : le lundi de 8h à 12h.\n\nLe règlement par chèque (à l’ordre du trésor Public) ou espèces des places réservées doit être effectué au plus tard 72 heures après la réservation. Ce délai écoulé\, la réservation est systématiquement annulée. \nHoraires d’ouverture de la billetterie  : \nLundi\, mardi et jeudi de 17h30 à 19h30\, Mercredi de 9h30 à 11h30 et de 17h30 à 19h30 et le vendredi de 19h à 21h.
URL:https://www.ville-wintzenheim.fr/evenement/spectacle-jeune-public-conte-malice-ou-malefices/
LOCATION:Espace culturel Arthuss\, 2 avenue De Lattre de Tassigny\, WINTZENHEIM\, 68920\, France
CATEGORIES:spectacle
ATTACH;FMTTYPE=image/png:https://www.ville-wintzenheim.fr/wp-content/uploads/2019/09/1-3.png
END:VEVENT
END:VCALENDAR