BEGIN:VCALENDAR
VERSION:2.0
PRODID:-//Wintzenheim - ECPv6.15.18//NONSGML v1.0//EN
CALSCALE:GREGORIAN
METHOD:PUBLISH
X-ORIGINAL-URL:https://www.ville-wintzenheim.fr
X-WR-CALDESC:Évènements pour Wintzenheim
REFRESH-INTERVAL;VALUE=DURATION:PT1H
X-Robots-Tag:noindex
X-PUBLISHED-TTL:PT1H
BEGIN:VTIMEZONE
TZID:Europe/Paris
BEGIN:DAYLIGHT
TZOFFSETFROM:+0100
TZOFFSETTO:+0200
TZNAME:CEST
DTSTART:20230326T010000
END:DAYLIGHT
BEGIN:STANDARD
TZOFFSETFROM:+0200
TZOFFSETTO:+0100
TZNAME:CET
DTSTART:20231029T010000
END:STANDARD
BEGIN:DAYLIGHT
TZOFFSETFROM:+0100
TZOFFSETTO:+0200
TZNAME:CEST
DTSTART:20240331T010000
END:DAYLIGHT
BEGIN:STANDARD
TZOFFSETFROM:+0200
TZOFFSETTO:+0100
TZNAME:CET
DTSTART:20241027T010000
END:STANDARD
BEGIN:DAYLIGHT
TZOFFSETFROM:+0100
TZOFFSETTO:+0200
TZNAME:CEST
DTSTART:20250330T010000
END:DAYLIGHT
BEGIN:STANDARD
TZOFFSETFROM:+0200
TZOFFSETTO:+0100
TZNAME:CET
DTSTART:20251026T010000
END:STANDARD
END:VTIMEZONE
BEGIN:VEVENT
DTSTART;TZID=Europe/Paris:20240928T170000
DTEND;TZID=Europe/Paris:20240928T200000
DTSTAMP:20260421T204546
CREATED:20240919T065318Z
LAST-MODIFIED:20240919T065318Z
UID:14643-1727542800-1727553600@www.ville-wintzenheim.fr
SUMMARY:L'EMDW fête sa rentrée !
DESCRIPTION:L’École de Musique et de Danse de Wintzenheim fête la rentrée ! \n  \n\nLe samedi 28 septembre dès 17h\nArthuss de Wintzenheim\n\n\n\n  \nAu programme ; animations et buvette \n  \nEntrée gratuite
URL:https://www.ville-wintzenheim.fr/evenement/lemdw-fete-sa-rentree/
LOCATION:Espace culturel Arthuss\, 2 avenue De Lattre de Tassigny\, WINTZENHEIM\, 68920\, France
CATEGORIES:musique
ATTACH;FMTTYPE=image/jpeg:https://www.ville-wintzenheim.fr/wp-content/uploads/2024/09/1.jpg
END:VEVENT
END:VCALENDAR