BEGIN:VCALENDAR
VERSION:2.0
PRODID:-//Wintzenheim - ECPv6.15.18//NONSGML v1.0//EN
CALSCALE:GREGORIAN
METHOD:PUBLISH
X-ORIGINAL-URL:https://www.ville-wintzenheim.fr
X-WR-CALDESC:Évènements pour Wintzenheim
REFRESH-INTERVAL;VALUE=DURATION:PT1H
X-Robots-Tag:noindex
X-PUBLISHED-TTL:PT1H
BEGIN:VTIMEZONE
TZID:Europe/Paris
BEGIN:DAYLIGHT
TZOFFSETFROM:+0100
TZOFFSETTO:+0200
TZNAME:CEST
DTSTART:20180325T010000
END:DAYLIGHT
BEGIN:STANDARD
TZOFFSETFROM:+0200
TZOFFSETTO:+0100
TZNAME:CET
DTSTART:20181028T010000
END:STANDARD
BEGIN:DAYLIGHT
TZOFFSETFROM:+0100
TZOFFSETTO:+0200
TZNAME:CEST
DTSTART:20190331T010000
END:DAYLIGHT
BEGIN:STANDARD
TZOFFSETFROM:+0200
TZOFFSETTO:+0100
TZNAME:CET
DTSTART:20191027T010000
END:STANDARD
BEGIN:DAYLIGHT
TZOFFSETFROM:+0100
TZOFFSETTO:+0200
TZNAME:CEST
DTSTART:20200329T010000
END:DAYLIGHT
BEGIN:STANDARD
TZOFFSETFROM:+0200
TZOFFSETTO:+0100
TZNAME:CET
DTSTART:20201025T010000
END:STANDARD
END:VTIMEZONE
BEGIN:VEVENT
DTSTART;TZID=Europe/Paris:20190915T090000
DTEND;TZID=Europe/Paris:20190915T090000
DTSTAMP:20260425T191357
CREATED:20190902T084051Z
LAST-MODIFIED:20190902T084825Z
UID:5012-1568538000-1568538000@www.ville-wintzenheim.fr
SUMMARY:Marathon de Colmar
DESCRIPTION:  \nLe 15 septembre prochain\, l’association « Courir Solidaire » organise\, pour la  5ème année consécutive\, le marathon de Colmar\, épreuve sportive et caritative qui\, forte de ses succès populaires\, a maintenant gagné ses lettres de noblesse parmi les grands événements sportifs d’Alsace. \nComme tous les ans\, Wintzenheim est fière d’être partenaire de l’épreuve et participe à son organisation par la mise à disposition et la sécurisation de la partie du circuit empruntant le territoire de la commune sur le quartier de Logelbach mais aussi par une animation musicale de l’Harmonie municipale au passage des coureurs rue Herzog (comme une buvette est prévue\, voilà une occasion fort sympathique de prendre un apéritif en musique pour les spectateurs… avec modération bien-sûr !). \nMais cette année\, un pas de plus est franchi car Wintzenheim se lance dans la course ! En effet\, dans le cadre du jumelage avec la commune de Möhnesee\, une équipe mixte franco-allemande sera présente au départ des différentes épreuves. Pompiers\, employés municipaux et élus courront aux côtés de nos amis allemands sous un même maillot célébrant ainsi les liens qui unissent nos deux collectivités et la croyance commune dans les vertus du sport pour le respect et l’amitié entre les peuples. \nPour que ce soit un moment de fête et de plaisir\, venez nombreux encourager l’équipe Möhnesee-Wintzenheim tout au long du parcours\, que ce soit à Colmar\, Wettolsheim\, Logelbach ou dans les autres villages où de nombreuses animations sont mises en place ! \n  \n 
URL:https://www.ville-wintzenheim.fr/evenement/marathon-de-colmar/
LOCATION:Devant la Salle Tomy Ungerer à Logelbach
CATEGORIES:musique,sport
ATTACH;FMTTYPE=image/jpeg:https://www.ville-wintzenheim.fr/wp-content/uploads/2019/09/maxresdefault-1-1.jpg
END:VEVENT
END:VCALENDAR