BEGIN:VCALENDAR
VERSION:2.0
PRODID:-//Wintzenheim - ECPv6.15.18//NONSGML v1.0//EN
CALSCALE:GREGORIAN
METHOD:PUBLISH
X-ORIGINAL-URL:https://www.ville-wintzenheim.fr
X-WR-CALDESC:Évènements pour Wintzenheim
REFRESH-INTERVAL;VALUE=DURATION:PT1H
X-Robots-Tag:noindex
X-PUBLISHED-TTL:PT1H
BEGIN:VTIMEZONE
TZID:Europe/Paris
BEGIN:DAYLIGHT
TZOFFSETFROM:+0100
TZOFFSETTO:+0200
TZNAME:CEST
DTSTART:20180325T010000
END:DAYLIGHT
BEGIN:STANDARD
TZOFFSETFROM:+0200
TZOFFSETTO:+0100
TZNAME:CET
DTSTART:20181028T010000
END:STANDARD
BEGIN:DAYLIGHT
TZOFFSETFROM:+0100
TZOFFSETTO:+0200
TZNAME:CEST
DTSTART:20190331T010000
END:DAYLIGHT
BEGIN:STANDARD
TZOFFSETFROM:+0200
TZOFFSETTO:+0100
TZNAME:CET
DTSTART:20191027T010000
END:STANDARD
BEGIN:DAYLIGHT
TZOFFSETFROM:+0100
TZOFFSETTO:+0200
TZNAME:CEST
DTSTART:20200329T010000
END:DAYLIGHT
BEGIN:STANDARD
TZOFFSETFROM:+0200
TZOFFSETTO:+0100
TZNAME:CET
DTSTART:20201025T010000
END:STANDARD
END:VTIMEZONE
BEGIN:VEVENT
DTSTART;TZID=Europe/Paris:20190306T200000
DTEND;TZID=Europe/Paris:20190306T220000
DTSTAMP:20260426T042551
CREATED:20180702T134821Z
LAST-MODIFIED:20190131T091055Z
UID:151-1551902400-1551909600@www.ville-wintzenheim.fr
SUMMARY:SPHÈRES | Concert pop-rock
DESCRIPTION:Un concert emmenant vers d’autres sphères…\n  \nLe duo propose un univers pop en clair-obscur\, dans lequel se mêlent les textes en français de Céline Righi\, chanteuse-parolière à la plume impressionniste et les mélodies inspirées de Yann Red\, guitariste-compositeur. Et le nom de leur duo « SphèreS » avec un « S » car chacune de leurs chansons est un monde contenant l’écho d’autres mondes\, une sphère emmenant vers d’autres sphères…
URL:https://www.ville-wintzenheim.fr/evenement/concert-spheres/
LOCATION:Espace culturel Arthuss\, 2 avenue De Lattre de Tassigny\, WINTZENHEIM\, 68920\, France
CATEGORIES:concert,musique
ATTACH;FMTTYPE=image/jpeg:https://www.ville-wintzenheim.fr/wp-content/uploads/2018/07/spheres_promo2017©P-mod_060-2espace-arthuss-e1530545054200.jpg
END:VEVENT
END:VCALENDAR