BEGIN:VCALENDAR
VERSION:2.0
PRODID:-//Wintzenheim - ECPv6.15.18//NONSGML v1.0//EN
CALSCALE:GREGORIAN
METHOD:PUBLISH
X-ORIGINAL-URL:https://www.ville-wintzenheim.fr
X-WR-CALDESC:Évènements pour Wintzenheim
REFRESH-INTERVAL;VALUE=DURATION:PT1H
X-Robots-Tag:noindex
X-PUBLISHED-TTL:PT1H
BEGIN:VTIMEZONE
TZID:Europe/Paris
BEGIN:DAYLIGHT
TZOFFSETFROM:+0100
TZOFFSETTO:+0200
TZNAME:CEST
DTSTART:20230326T010000
END:DAYLIGHT
BEGIN:STANDARD
TZOFFSETFROM:+0200
TZOFFSETTO:+0100
TZNAME:CET
DTSTART:20231029T010000
END:STANDARD
BEGIN:DAYLIGHT
TZOFFSETFROM:+0100
TZOFFSETTO:+0200
TZNAME:CEST
DTSTART:20240331T010000
END:DAYLIGHT
BEGIN:STANDARD
TZOFFSETFROM:+0200
TZOFFSETTO:+0100
TZNAME:CET
DTSTART:20241027T010000
END:STANDARD
BEGIN:DAYLIGHT
TZOFFSETFROM:+0100
TZOFFSETTO:+0200
TZNAME:CEST
DTSTART:20250330T010000
END:DAYLIGHT
BEGIN:STANDARD
TZOFFSETFROM:+0200
TZOFFSETTO:+0100
TZNAME:CET
DTSTART:20251026T010000
END:STANDARD
END:VTIMEZONE
BEGIN:VEVENT
DTSTART;TZID=Europe/Paris:20241118T090000
DTEND;TZID=Europe/Paris:20241123T170000
DTSTAMP:20260422T083449
CREATED:20241029T112457Z
LAST-MODIFIED:20241114T135852Z
UID:14838-1731920400-1732381200@www.ville-wintzenheim.fr
SUMMARY:“ROUILLE”\, une exposition photos de Corine Lambert
DESCRIPTION: Du 4 au 23 novembre 2024 aux heures d’ouverture de la MJC \n  \nLa rouille qui use et transforme petit à petit les objets et les lieux\, leur donne un nouvel aspect\, de nouvelles couleurs\, et crée ainsi des œuvres d’art. \nCorine Lambert aime les objets qui ont eu une vie\, un passé\, qui survivent dans le présent et nous présentent une image qui se modifie au fil du temps. Pour se rappeler à nous. \nÀ travers ses photos\, elle veut partager ce qu’elle voit dans la rouille. \n\nVernissage vendredi 8 novembre à 18 h 00. Ouvert à tous \n  \nContact : 09 52 85 94 79 – contact@mjc-chevalblanc.fr 
URL:https://www.ville-wintzenheim.fr/evenement/rouille-une-exposition-photo-de-corine-lambert/
LOCATION:MJC du Cheval Blanc\, 1 faubourg des Vosges
CATEGORIES:exposition
ATTACH;FMTTYPE=image/jpeg:https://www.ville-wintzenheim.fr/wp-content/uploads/2024/10/Capture-decran-2024-10-29-121942.jpg
END:VEVENT
END:VCALENDAR